BEGIN:VCALENDAR
PRODID:-//eluceo/ical//2.0/EN
VERSION:2.0
CALSCALE:GREGORIAN
BEGIN:VEVENT
UID:3be61599db47f54cae9524d2865a4a09
DTSTAMP:20260424T225822Z
SUMMARY:Yom Kippur Study Session
DESCRIPTION:Champaign-Urbana Jewish Federation\nSinai Temple Calendar\nhttp
 s://cujf.org/sinai-temple/yom-kippur-study-session-2018-282145\n\nSinai Te
 mple offers a range of services during the High Holiday season\, inlcuding
  Traditional Egalitarian and Reform Services. Sinai Temple also has servic
 es for families. Please contact Sinai Temple for complete\, up-to-date 
 information on their services and other events. 
DTSTART;TZID=America/Chicago:20180919T133000
DTEND;TZID=America/Chicago:20180919T141500
END:VEVENT
END:VCALENDAR
