BEGIN:VCALENDAR
PRODID:-//eluceo/ical//2.0/EN
VERSION:2.0
CALSCALE:GREGORIAN
BEGIN:VEVENT
UID:43687041537963a850187461a09a9389
DTSTAMP:20260424T183708Z
SUMMARY:Traditional Egalitarian Services
DESCRIPTION:Champaign-Urbana Jewish Federation\nSinai Temple Calendar\nhttp
 s://cujf.org/sinai-temple/traditional-egalitarian-services-2018-264938\n\n
 Traditional services\, similar to those found in a Conservative synagogue\
 , are offered at Sinai Temple on many Shabbatot\, as well as on Rosh Hasha
 nah\, Kol Nidrei\, Yom Kippur\, Sukkot\, Shavuot\, Purim and Passover.\n\n
 Traditional services are organized by the Egalitarian Traditional Minyan. 
 Services are lay led\, egalitarian and are followed by a full kiddush lunc
 h. The Egalitarian Traditional Minyan welcomes – and even helps to train
  - people to chant Torah\, Haftorah\, lead a portion of service ...
DTSTART;TZID=America/Chicago:20190817T100000
DTEND;TZID=America/Chicago:20190817T100000
END:VEVENT
END:VCALENDAR
