BEGIN:VCALENDAR
PRODID:-//eluceo/ical//2.0/EN
VERSION:2.0
CALSCALE:GREGORIAN
BEGIN:VEVENT
UID:48b2a1e0945a688024bdde0b630bd611
DTSTAMP:20260421T030150Z
SUMMARY:Torah Study
DESCRIPTION:Champaign-Urbana Jewish Federation\nSinai Temple Calendar\nhttp
 s://cujf.org/sinai-temple/torah-study\n\nTorah Study
DTSTART;TZID=America/Chicago:20190831T090000
DTEND;TZID=America/Chicago:20190831T235959
END:VEVENT
END:VCALENDAR
