BEGIN:VCALENDAR
PRODID:-//eluceo/ical//2.0/EN
VERSION:2.0
CALSCALE:GREGORIAN
BEGIN:VEVENT
UID:09e985ce54cf1177ca06bf0f6d7107df
DTSTAMP:20260421T074032Z
SUMMARY:Reform Neilah & Yizkor (followed by Break-the-Fast)
DESCRIPTION:Champaign-Urbana Jewish Federation\nSinai Temple Calendar\nhttp
 s://cujf.org/sinai-temple/reform-neilah-yizkor-2018-282149\n\nSinai Temple
  offers a range of services during the High Holiday season\, inlcuding Tra
 ditional Egalitarian and Reform Services. Sinai Temple also has services f
 or families. Please contact Sinai Temple for complete\, up-to-date info
 rmation on their services and other events. 
DTSTART;TZID=America/Chicago:20180919T160000
DTEND;TZID=America/Chicago:20180919T200000
END:VEVENT
END:VCALENDAR
