BEGIN:VCALENDAR
PRODID:-//eluceo/ical//2.0/EN
VERSION:2.0
CALSCALE:GREGORIAN
BEGIN:VEVENT
UID:36b8a239ff34653e3108771079fef154
DTSTAMP:20260422T071030Z
SUMMARY:Reform Morning Yom Kippur Service
DESCRIPTION:Champaign-Urbana Jewish Federation\nSinai Temple Calendar\nhttp
 s://cujf.org/sinai-temple/reform-morning-yom-kippur-service-2018-282143\n\
 nSinai Temple offers a range of services during the High Holiday season\, 
 inlcuding Traditional Egalitarian and Reform Services. Sinai Temple also h
 as services for families. Please contact Sinai Temple for complete\, up-
 to-date information on their services and other events. 
DTSTART;TZID=America/Chicago:20180919T100000
DTEND;TZID=America/Chicago:20180919T120000
END:VEVENT
END:VCALENDAR
