BEGIN:VCALENDAR
PRODID:-//eluceo/ical//2.0/EN
VERSION:2.0
CALSCALE:GREGORIAN
BEGIN:VEVENT
UID:27e4d79cfbad8aaaa78a9e096982b4aa
DTSTAMP:20260422T140149Z
SUMMARY:Purim Carnival
DESCRIPTION:Champaign-Urbana Jewish Federation\nSinai Temple Calendar\nhttp
 s://cujf.org/sinai-temple/purim-carnival\n\nThe biggest and best Purim car
 nival in the area! This event is open to Sinai Temple families\, religiou
 s school families\, the greater Jewish community and friends!  Come in co
 stume ready to play!\n\nGames for all ages 11:00-12:30.  Pizza lunch and 
 other activities (including our prize raffle) will be from 12:30-1:00. Pr
 e-registration is strongly encouraged.  Punch cards will be available for
  purchase at the carnival as well. Lunch will include pizza\, a drink\, a 
 cookie and a vegetable.  P...
DTSTART;TZID=America/Chicago:20240324T110000
DTEND;TZID=America/Chicago:20240324T130000
END:VEVENT
END:VCALENDAR
