BEGIN:VCALENDAR
PRODID:-//eluceo/ical//2.0/EN
VERSION:2.0
CALSCALE:GREGORIAN
BEGIN:VEVENT
UID:f39045b195b14f21a838c3889bc69e2a
DTSTAMP:20260424T111015Z
SUMMARY:Interfaith Seder
DESCRIPTION:Champaign-Urbana Jewish Federation\nSinai Temple Calendar\nhttp
 s://cujf.org/sinai-temple/interfaith-seder\n\nSinai Temple will hold our 
 Interfaith Seder.  After a few years’ hiatus\, this popular event is 
 back.  We will welcome members of other local faith communities for a pre
 -Passover event focusing on celebrating peace and freedom.  We will enjoy
  a meal and a creative seder ritual drawing from a number of cultural and 
 religious traditions.  Space is limited\; please register at https://si
 naitemplecu.shulcloud.com/form/IFseder.html
DTSTART;TZID=America/Chicago:20240414T173000
DTEND;TZID=America/Chicago:20240414T210000
END:VEVENT
END:VCALENDAR
