BEGIN:VCALENDAR
PRODID:-//eluceo/ical//2.0/EN
VERSION:2.0
CALSCALE:GREGORIAN
BEGIN:VEVENT
UID:2c476af257d9277209c5e6bc8cd8a99c
DTSTAMP:20260421T043942Z
SUMMARY:Hebrew School
DESCRIPTION:Champaign-Urbana Jewish Federation\nSinai Temple Calendar\nhttp
 s://cujf.org/sinai-temple/hebrew-school-323244\n\nHebrew School at Sinai
DTSTART;TZID=America/Chicago:20190911T161500
DTEND;TZID=America/Chicago:20190911T173000
END:VEVENT
END:VCALENDAR
