BEGIN:VCALENDAR
PRODID:-//eluceo/ical//2.0/EN
VERSION:2.0
CALSCALE:GREGORIAN
BEGIN:VEVENT
UID:88e1146dd261a2e2f9e20fa3f67aafa9
DTSTAMP:20260422T124422Z
SUMMARY:Hands Only CPR
DESCRIPTION:Champaign-Urbana Jewish Federation\nSinai Temple Calendar\nhttp
 s://cujf.org/sinai-temple/hands-only-cpr-301046\n\nPlease come to Hands On
  Only CPR. Judaism places an enormous amount of value on the mitzvah of P
 ikuach Nefesh\, saving one’s life. One thing that you can do in an emer
 gency situation is determine if someone would benefit from CPR. Leanna Co
 ssman and a team of qualified health care professionals will facilitate a 
 Hands Only CPR class on Sunday\, February 10. The class will be at Sinai 
 Temple from 1:00-3:00. Please sign up in advance to ensure that they have
  the proper number of mannequins...
DTSTART;TZID=America/Chicago:20190210T130000
DTEND;TZID=America/Chicago:20190210T150000
END:VEVENT
END:VCALENDAR
