BEGIN:VCALENDAR
PRODID:-//eluceo/ical//2.0/EN
VERSION:2.0
CALSCALE:GREGORIAN
BEGIN:VEVENT
UID:77b96dce620da17f8561685cb0c071ec
DTSTAMP:20260423T222749Z
SUMMARY:Gentle Chair Yoga at Sinai
DESCRIPTION:Champaign-Urbana Jewish Federation\nSinai Temple Calendar\nhttp
 s://cujf.org/sinai-temple/gentle-chair-yoga-at-sinai-330914\n\nSHAL*OM! Pl
 ease come and try your first class for free! People have said the class is
  calming\, refreshing and provides a nice\, gentle stretch and great start
  to their day. Be sure to let Robin know that you are coming by e-mail at
  robinfans1@gmail.com or phone 217-898-9953. To join please contact Ro
 bin at robinfans1@gmail.com.
DTSTART;TZID=America/Chicago:20191001T104500
DTEND;TZID=America/Chicago:20191001T104500
END:VEVENT
END:VCALENDAR
