BEGIN:VCALENDAR
PRODID:-//eluceo/ical//2.0/EN
VERSION:2.0
CALSCALE:GREGORIAN
BEGIN:VEVENT
UID:6d1ba19de3e5e7f7ea1704a25eb643bd
DTSTAMP:20260421T111838Z
SUMMARY:Gentle Chair Yoga
DESCRIPTION:Champaign-Urbana Jewish Federation\nSinai Temple Calendar\nhttp
 s://cujf.org/sinai-temple/gentle-chair-yoga-2018-264431\n\nSHAL*OM! Please
  come and try your first class for free! People have said the class is cal
 ming\, refreshing and provides a nice\, gentle stretch and great start to 
 their day. Be sure to let Robin know that you are coming by e-mail at robi
 nfans1@gmail.com or phone 217-898-9953. To join please contact Robin at
  robinfans1@gmail.com.\n\n 
DTSTART;TZID=America/Chicago:20190806T104500
DTEND;TZID=America/Chicago:20190806T114500
END:VEVENT
END:VCALENDAR
