BEGIN:VCALENDAR
PRODID:-//eluceo/ical//2.0/EN
VERSION:2.0
CALSCALE:GREGORIAN
BEGIN:VEVENT
UID:3e9f263cc8833acaae281c461fa7799e
DTSTAMP:20260423T104221Z
SUMMARY:Egalitarian Traditional Minyan Mincha w/Neilah (followed by Break-t
 he-Fast)
DESCRIPTION:Champaign-Urbana Jewish Federation\nSinai Temple Calendar\nhttp
 s://cujf.org/sinai-temple/egalitarian-traditional-minyan-mincha-wneilah-fo
 llowed-by-break-the-fast-2018-282150\n\nSinai Temple offers a range of ser
 vices during the High Holiday season\, inlcuding Traditional Egalitarian a
 nd Reform Services. Sinai Temple also has services for families. Please co
 ntact Sinai Temple for complete\, up-to-date information on their servi
 ces and other events. 
DTSTART;TZID=America/Chicago:20180919T163000
DTEND;TZID=America/Chicago:20180919T200000
END:VEVENT
END:VCALENDAR
