BEGIN:VCALENDAR
PRODID:-//eluceo/ical//2.0/EN
VERSION:2.0
CALSCALE:GREGORIAN
BEGIN:VEVENT
UID:15acae5929a480eb904fc18f1c255030
DTSTAMP:20260422T154818Z
SUMMARY:Egalitarian Traditional Minyan Kol Nidre Service
DESCRIPTION:Champaign-Urbana Jewish Federation\nSinai Temple Calendar\nhttp
 s://cujf.org/sinai-temple/egalitarian-traditional-minyan-kol-nidre-service
 -2018-282140\n\nSinai Temple offers a range of services during the High Ho
 liday season\, inlcuding Traditional Egalitarian and Reform Services. Sina
 i Temple also has services for families. Please contact Sinai Temple for
  complete\, up-to-date information on their services and other events. 
DTSTART;TZID=America/Chicago:20180918T180000
DTEND;TZID=America/Chicago:20180918T200000
END:VEVENT
END:VCALENDAR
