BEGIN:VCALENDAR
PRODID:-//eluceo/ical//2.0/EN
VERSION:2.0
CALSCALE:GREGORIAN
BEGIN:VEVENT
UID:18647db45cf2657ebc12e963fb5bfe12
DTSTAMP:20260421T141154Z
SUMMARY:Chinese Dinner and a Movie
DESCRIPTION:Champaign-Urbana Jewish Federation\nSinai Temple Calendar\nhttp
 s://cujf.org/sinai-temple/chinese-dinner-and-a-movie\n\nJoin Sinai Temple 
 for our annual gathering to enjoy a movie\, followed by a delicious Chines
 e dinner.
DTSTART;TZID=America/Chicago:20231224T153000
DTEND;TZID=America/Chicago:20231224T193000
END:VEVENT
END:VCALENDAR
