BEGIN:VCALENDAR
PRODID:-//eluceo/ical//2.0/EN
VERSION:2.0
CALSCALE:GREGORIAN
BEGIN:VEVENT
UID:1b95823a87d7ff7fdf2dba92c93c4c21
DTSTAMP:20260425T105320Z
SUMMARY:3 and Under Chavurah
DESCRIPTION:Champaign-Urbana Jewish Federation\nSinai Temple Calendar\nhttp
 s://cujf.org/sinai-temple/3-and-under-chavurah-Feb-19-301044\n\nAn informa
 l playgroup for Jewish families with at least one child 3 or under\, we me
 et monthly and are a space for families to engage in Jewish activities\, s
 ocialize\, talk about parenting issues and connect to Judaism. Bring a din
 ner if you would like\, kosher snacks available for the children. If you h
 ave a topic you would like to cover\, please be sure to let Rabbi Jody kno
 w! RSVP to Rabbi Jody (Educator@sinaitemplecu.org) if you plan to attend!
DTSTART;TZID=America/Chicago:20190207T173000
DTEND;TZID=America/Chicago:20190207T190000
END:VEVENT
END:VCALENDAR
