BEGIN:VCALENDAR
PRODID:-//eluceo/ical//2.0/EN
VERSION:2.0
CALSCALE:GREGORIAN
BEGIN:VEVENT
UID:0344e6a463162599992d444d5a7fc8cd
DTSTAMP:20260422T081505Z
SUMMARY:Yiddish dancing w/Veretski Pass and Mitch Harris at Urbana Dance Co
 mpany
DESCRIPTION:Champaign-Urbana Jewish Federation\nCUJF Calendar \nhttps://cuj
 f.org/cujf-calendar/yiddish-dancing-wveretski-pass-and-mitch-harris-at-urb
 ana-dance-company-330918\n\nVeretski Pass\n\nThe return of renowned klezme
 r trio Veretski Pass to Champaign-Urbana as part of the C-U Folk and Roots
  Festival and into the following days! This opportunity is not to be misse
 d. Veretski Pass offers a unique and exciting combination of virtuosic mus
 icianship and raw energy that has excited concertgoers across the world.\n
 \n \n\nPerformance\n\nOctober 25\, 7:00 at Iron Post. Festival wristband
  or single venue admission of $20\n\n \n\nWorkshop: Introduction to Playi
 ng Klezm...
DTSTART;TZID=America/Chicago:20191026T193000
DTEND;TZID=America/Chicago:20191026T193000
END:VEVENT
END:VCALENDAR
