BEGIN:VCALENDAR
PRODID:-//eluceo/ical//2.0/EN
VERSION:2.0
CALSCALE:GREGORIAN
BEGIN:VEVENT
UID:97da461f75141af740874e29770593bb
DTSTAMP:20260421T055126Z
SUMMARY:Veretski Pass Lecture & Demonstration
DESCRIPTION:Champaign-Urbana Jewish Federation\nCUJF Calendar \nhttps://cuj
 f.org/cujf-calendar/veretski-pass-lecture-demonstration-330913\n\nVeretski
  Pass\n\nThe return of renowned klezmer trio Veretski Pass to Champaign-Ur
 bana as part of the C-U Folk and Roots Festival and into the following day
 s! This opportunity is not to be missed. Veretski Pass offers a unique and
  exciting combination of virtuosic musicianship and raw energy that has ex
 cited concertgoers across the world.\n\n \n\nPerformance\n\nOctober 25\, 
 7:00 at Iron Post. Festival wristband or single venue admission of $20\n\
 n \n\nWorkshop: Introduction to Playing Klezm...
DTSTART;TZID=America/Chicago:20191028T193000
DTEND;TZID=America/Chicago:20191028T193000
END:VEVENT
END:VCALENDAR
