BEGIN:VCALENDAR
PRODID:-//eluceo/ical//2.0/EN
VERSION:2.0
CALSCALE:GREGORIAN
BEGIN:VEVENT
UID:5652f19ba1c2e0a170091822e78580aa
DTSTAMP:20260424T135347Z
SUMMARY:Veretski Pass at Sinai Temple
DESCRIPTION:Champaign-Urbana Jewish Federation\nCUJF Calendar \nhttps://cuj
 f.org/cujf-calendar/veretski-pass-at-sinai-temple-330911\n\nVeretski Pass\
 n\nThe return of renowned klezmer trio Veretski Pass to Champaign-Urbana a
 s part of the C-U Folk and Roots Festival and into the following days! Thi
 s opportunity is not to be missed. Veretski Pass offers a unique and excit
 ing combination of virtuosic musicianship and raw energy that has excited 
 concertgoers across the world.\n\n \n\nPerformance\n\nOctober 25\, 7:00 a
 t Iron Post. Festival wristband or single venue admission of $20\n\n \n\
 nWorkshop: Introduction to Playing Klezm...
DTSTART;TZID=America/Chicago:20191027T190000
DTEND;TZID=America/Chicago:20191027T190000
END:VEVENT
END:VCALENDAR
