BEGIN:VCALENDAR
PRODID:-//eluceo/ical//2.0/EN
VERSION:2.0
CALSCALE:GREGORIAN
BEGIN:VEVENT
UID:00503c6900f1ebc64e9ac33f0c25c2db
DTSTAMP:20260422T012523Z
SUMMARY:Two Years Later: In Memory and In Resilience
DESCRIPTION:Champaign-Urbana Jewish Federation\nCUJF Calendar \nhttps://cuj
 f.org/cujf-calendar/two-years-later-in-memory-and-in-resilience\n\nJoin CU
 JF Jewish Family Services as we come together for a meaningful evening of 
 community and reflection.\n\nOctober 7th holds many emotions\; grief\, res
 ilience\, hope\, and now\, relief at the return of hostages. However you
 ’re feeling\, you don’t have to hold it alone.
DTSTART;TZID=America/Chicago:20251016T190000
DTEND;TZID=America/Chicago:20251016T200000
END:VEVENT
END:VCALENDAR
