BEGIN:VCALENDAR
PRODID:-//eluceo/ical//2.0/EN
VERSION:2.0
CALSCALE:GREGORIAN
BEGIN:VEVENT
UID:9832b54bda6a4a97024a9cc0df217d81
DTSTAMP:20260422T184712Z
SUMMARY:Summer Camp & Summer Fun Shopping Event! at Champaign Outdoors
DESCRIPTION:Champaign-Urbana Jewish Federation\nCUJF Calendar \nhttps://cuj
 f.org/cujf-calendar/summer-camp-summer-fun-shopping-event-at-champaign-out
 doors\n\nPlease join the Champaign-Urbana Jewish Federation and Champaign 
 Outdoors for a private shopping event to help you get ready for summer fun
 ! Whether it be sleep-away summer camp for your kid or summer adventures c
 lose to home\, Champaign Outdoors has everything you might need for a safe
 \, fun and fulfilling summer.
DTSTART;TZID=America/Chicago:20190519T160000
DTEND;TZID=America/Chicago:20190519T180000
END:VEVENT
END:VCALENDAR
