BEGIN:VCALENDAR
PRODID:-//eluceo/ical//2.0/EN
VERSION:2.0
CALSCALE:GREGORIAN
BEGIN:VEVENT
UID:7655085ee29056eec483a716ecb9aa5f
DTSTAMP:20260424T215550Z
SUMMARY:Papashoy at Iron Post
DESCRIPTION:Champaign-Urbana Jewish Federation\nCUJF Calendar \nhttps://cuj
 f.org/cujf-calendar/papashoy-at-iron-post-330910\n\nPapashoy (corn) plays 
 old-time Jewish klezmer music in the style of the village bands of Yiddish
  Eastern Europe’s own corn country. Bring your dancing shoes for our ass
 ortment of lively tunes and your hankies for some sweet\, sad melodies. Su
 rprises at every turn!\n\nMembers are Frances Harris and Amanda Ramey (fid
 dles)\, Rob Sweedler (accordion)\, Rob Krumm (guitar)\, Charlie Harris (ba
 ss)\, and Cody Jensen (mandolin\, xylophone).
DTSTART;TZID=America/Chicago:20191013T180000
DTEND;TZID=America/Chicago:20191013T180000
END:VEVENT
END:VCALENDAR
