BEGIN:VCALENDAR
PRODID:-//eluceo/ical//2.0/EN
VERSION:2.0
CALSCALE:GREGORIAN
BEGIN:VEVENT
UID:793a1778345273f70fa862405069d5f0
DTSTAMP:20260422T014656Z
SUMMARY:Movie night
DESCRIPTION:Champaign-Urbana Jewish Federation\nCUJF Calendar \nhttps://cuj
 f.org/cujf-calendar/movie-night-249109\n\nCome enjoy a movie night at McK
 inley Foundation to see “Rosenwald.”
DTSTART;TZID=America/Chicago:20171017T190000
DTEND;TZID=America/Chicago:20171017T210000
END:VEVENT
END:VCALENDAR
