BEGIN:VCALENDAR
PRODID:-//eluceo/ical//2.0/EN
VERSION:2.0
CALSCALE:GREGORIAN
BEGIN:VEVENT
UID:23cb30d079497bbf71181f2124e27f3e
DTSTAMP:20260421T030915Z
SUMMARY:Ladies Night Out: Ice Skating
DESCRIPTION:Champaign-Urbana Jewish Federation\nCUJF Calendar \nhttps://cuj
 f.org/cujf-calendar/ladies-night-out-ice-skating-299192\n\nJoin us for som
 e fun with your friends on and off the ice. \nThe cost of attendance is $
 2 admission and $1 skate rental.\nCampus Rec members: FREE (with valid i-c
 ard)\n\nTell us that you're interested on Facebook!
DTSTART;TZID=America/Chicago:20190206T193000
DTEND;TZID=America/Chicago:20190206T213000
END:VEVENT
END:VCALENDAR
