BEGIN:VCALENDAR
PRODID:-//eluceo/ical//2.0/EN
VERSION:2.0
CALSCALE:GREGORIAN
BEGIN:VEVENT
UID:7745a97b1c4248e087f20e6976789c8f
DTSTAMP:20260422T060326Z
SUMMARY:Ladies Night Out: DIY Workshop
DESCRIPTION:Champaign-Urbana Jewish Federation\nCUJF Calendar \nhttps://cuj
 f.org/cujf-calendar/ladies-night-out-diy-workshop-270862\n\nDIY Workshop a
 t Pretties by Paris\n\nTuesday\, May 22\, 7:00 - 9:00 pm\nPretties by Pari
 s\n2004 S Neil St\, Champaign\n\nJoin us for a fun night of DIY with local
  women!
DTSTART;TZID=America/Chicago:20180522T190000
DTEND;TZID=America/Chicago:20180522T210000
END:VEVENT
END:VCALENDAR
