BEGIN:VCALENDAR
PRODID:-//eluceo/ical//2.0/EN
VERSION:2.0
CALSCALE:GREGORIAN
BEGIN:VEVENT
UID:d82585bce20eefea8ff79adb7e7aab01
DTSTAMP:20260422T014015Z
SUMMARY:Ladies Night Out at Krannert
DESCRIPTION:Champaign-Urbana Jewish Federation\nCUJF Calendar \nhttps://cuj
 f.org/cujf-calendar/ladies-night-out-at-krannert-284110\n\nSave the date f
 or our next women's night event. It will be on September 22nd: \n\nWe wil
 l start at 8pm with dinner or drinks at The Bread Company and move from t
 here across the street to a free event of Latin Dance at the Krannert cent
 er. \n\nPlease let us know if you plan to come. RSVP to yael.gertner@gmai
 l.com\n\nYael and Anna
DTSTART;TZID=America/Chicago:20180922T200000
DTEND;TZID=America/Chicago:20180922T223000
END:VEVENT
END:VCALENDAR
