BEGIN:VCALENDAR
PRODID:-//eluceo/ical//2.0/EN
VERSION:2.0
CALSCALE:GREGORIAN
BEGIN:VEVENT
UID:2c737fab7fa1f308fe2da259021d9d5a
DTSTAMP:20260421T030843Z
SUMMARY:Israeli Folkdancing
DESCRIPTION:Champaign-Urbana Jewish Federation\nCUJF Calendar \nhttps://cuj
 f.org/cujf-calendar/israeli-folkdancing-248438\n\nLearn the traditions of 
 Israeli Folkdancing with our community and a knowledgable instructor.
DTSTART;TZID=America/Chicago:20171015T190000
DTEND;TZID=America/Chicago:20171015T210000
END:VEVENT
END:VCALENDAR
