BEGIN:VCALENDAR
PRODID:-//eluceo/ical//2.0/EN
VERSION:2.0
CALSCALE:GREGORIAN
BEGIN:VEVENT
UID:6f487cb99621be62ee90f993d2d6f8c8
DTSTAMP:20260422T051346Z
SUMMARY:Israeli Dancing with CUJF
DESCRIPTION:Champaign-Urbana Jewish Federation\nCUJF Calendar \nhttps://cuj
 f.org/cujf-calendar/israeli-dancing-with-cujf\n\nIsraeli dancing on the pa
 tio at Sinai Temple. No experience needed
DTSTART;TZID=America/Chicago:20220814T193000
DTEND;TZID=America/Chicago:20220814T210000
END:VEVENT
END:VCALENDAR
