BEGIN:VCALENDAR
PRODID:-//eluceo/ical//2.0/EN
VERSION:2.0
CALSCALE:GREGORIAN
BEGIN:VEVENT
UID:4c0f0ac6326a08d56960e1ca06bd9d76
DTSTAMP:20260422T154303Z
SUMMARY:Israeli Dancing
DESCRIPTION:Champaign-Urbana Jewish Federation\nCUJF Calendar \nhttps://cuj
 f.org/cujf-calendar/israeli-dancing-Sept-2018-286538\n\nJoin us for anothe
 r fun evening of Israeli Dancing! We start at 7:00pm with dances geared to
 wards beginners and get more advanced throughout the evening. We always we
 lcome newcomers. Have fun and get a good workout at the same time.\n\n \n
 \nSponsored by CUJF
DTSTART;TZID=America/Chicago:20180916T190000
DTEND;TZID=America/Chicago:20180916T210000
END:VEVENT
END:VCALENDAR
