BEGIN:VCALENDAR
PRODID:-//eluceo/ical//2.0/EN
VERSION:2.0
CALSCALE:GREGORIAN
BEGIN:VEVENT
UID:f882e065daf80d20a3ae381c47c49fa1
DTSTAMP:20260422T060356Z
SUMMARY:Israeli Dancing
DESCRIPTION:Champaign-Urbana Jewish Federation\nCUJF Calendar \nhttps://cuj
 f.org/cujf-calendar/israeli-dancing-March-2018-263641\n\n \n\n"I love the
  music and the friendly\, relaxed atmosphere..." - an anonymous dancer\n\n
 Arrive at 7:00 pm for beginner level dancing.\nAs the evening continues o
 ur dancing will progress to intermediate level.
DTSTART;TZID=America/Chicago:20180303T190000
DTEND;TZID=America/Chicago:20180303T210000
END:VEVENT
END:VCALENDAR
