BEGIN:VCALENDAR
PRODID:-//eluceo/ical//2.0/EN
VERSION:2.0
CALSCALE:GREGORIAN
BEGIN:VEVENT
UID:3d0dc7b45bc5aa441e420f9285ad593f
DTSTAMP:20260423T021927Z
SUMMARY:Israeli Dancing
DESCRIPTION:Champaign-Urbana Jewish Federation\nCUJF Calendar \nhttps://cuj
 f.org/cujf-calendar/israeli-dancing-Dec-Jan-294903\n\nArrive at 7:00 pm fo
 r beginner-level teaching!\nAll are encouraged to participate\, regardless
  of dance experience. Our group welcomes people of all ages and abilities.
  Newcomers highly encouraged to attend.\n\nIsraeli Dance is sponsored by C
 UJF
DTSTART;TZID=America/Chicago:20181201T000000
DTEND;TZID=America/Chicago:20181201T000000
END:VEVENT
END:VCALENDAR
