BEGIN:VCALENDAR
PRODID:-//eluceo/ical//2.0/EN
VERSION:2.0
CALSCALE:GREGORIAN
BEGIN:VEVENT
UID:4c7103481a7f2df489e9215e59b7f2b4
DTSTAMP:20260422T015218Z
SUMMARY:Interfaith Conference Keynote Address with Rabbi Allyson Zacharoff
DESCRIPTION:Champaign-Urbana Jewish Federation\nCUJF Calendar \nhttps://cuj
 f.org/cujf-calendar/interfaith-conference-keynote-address-with-rabbi-allys
 on-zacharoff-1676917225\n\nRabbi Allyson Zacharoff\, Special Advisor on Sp
 iritual Life Programming and Religious Discrimination at New York Universi
 ty\, will offer a keynote talk on Friday night titled “Moments that Chan
 ge Us\,” reflecting on stories for maintaining interfaith connections.
DTSTART;TZID=America/Chicago:20230224T190000
DTEND;TZID=America/Chicago:20230224T210000
END:VEVENT
END:VCALENDAR
