BEGIN:VCALENDAR
PRODID:-//eluceo/ical//2.0/EN
VERSION:2.0
CALSCALE:GREGORIAN
BEGIN:VEVENT
UID:59662780eeb1fc6599b7d36212e5894a
DTSTAMP:20260421T073824Z
SUMMARY:High School Movie Night :"Ida"
DESCRIPTION:Champaign-Urbana Jewish Federation\nCUJF Calendar \nhttps://cuj
 f.org/cujf-calendar/high-school-movie-night-Ida-270861\n\nHigh School movi
 e night \nMovie: "Ida"\nSaturday\, May 26\, 5:30 -8:30 pm\nHome of the So
 loveychik family \nRSVP to Anna Soloveychik\nvsoloveychik@yahoo.com
DTSTART;TZID=America/Chicago:20180526T173000
DTEND;TZID=America/Chicago:20180526T203000
END:VEVENT
END:VCALENDAR
