BEGIN:VCALENDAR
PRODID:-//eluceo/ical//2.0/EN
VERSION:2.0
CALSCALE:GREGORIAN
BEGIN:VEVENT
UID:d0f5921d06dbbabf6b1c290f2385b852
DTSTAMP:20260424T123755Z
SUMMARY:Franklin Middle School Virtual Holocaust Museum
DESCRIPTION:Champaign-Urbana Jewish Federation\nCUJF Calendar \nhttps://cuj
 f.org/cujf-calendar/franklin-middle-school-virtual-holocaust-museum-167760
 7097\n\nPlease attend the Franklin Middle School Virtual Holocaust Museum 
 on March 8 from 12:45-2:00 at the school - 817 N. Harris Ave. CUJF and the
  HEC have been supporting this annual project for over fifteen years.
DTSTART;TZID=America/Chicago:20230308T124500
DTEND;TZID=America/Chicago:20230308T140000
END:VEVENT
END:VCALENDAR
