BEGIN:VCALENDAR
PRODID:-//eluceo/ical//2.0/EN
VERSION:2.0
CALSCALE:GREGORIAN
BEGIN:VEVENT
UID:b07fa7110467b80624793be7d9cf9764
DTSTAMP:20260420T071254Z
SUMMARY:CUJF Board Meeting
DESCRIPTION:Champaign-Urbana Jewish Federation\nCUJF Calendar \nhttps://cuj
 f.org/cujf-calendar/cujf-board-meeting-sept-323245\n\nBoard Meeting
DTSTART;TZID=America/Chicago:20190911T190000
DTEND;TZID=America/Chicago:20190911T200000
END:VEVENT
END:VCALENDAR
