BEGIN:VCALENDAR
PRODID:-//eluceo/ical//2.0/EN
VERSION:2.0
CALSCALE:GREGORIAN
BEGIN:VEVENT
UID:5ced4c90ce369d476957290bca3458dc
DTSTAMP:20260422T014035Z
SUMMARY:CUJF Board meeting at Hillel
DESCRIPTION:Champaign-Urbana Jewish Federation\nCUJF Calendar \nhttps://cuj
 f.org/cujf-calendar/cujf-board-meeting-at-hillel-330912\n\nCUJF Board meet
 ing at Hillel
DTSTART;TZID=America/Chicago:20191016T190000
DTEND;TZID=America/Chicago:20191016T190000
END:VEVENT
END:VCALENDAR
