BEGIN:VCALENDAR
PRODID:-//eluceo/ical//2.0/EN
VERSION:2.0
CALSCALE:GREGORIAN
BEGIN:VEVENT
UID:043b2e7fd39c7b99783ac1663bd64e52
DTSTAMP:20260423T152152Z
SUMMARY:CUJF Board Meeting
DESCRIPTION:Champaign-Urbana Jewish Federation\nCUJF Calendar \nhttps://cuj
 f.org/cujf-calendar/cujf-board-meeting-248439\n\nThere willl be a CUJF boa
 rd Meeting held at the Hillel Library.
DTSTART;TZID=America/Chicago:20171018T190000
DTEND;TZID=America/Chicago:20171018T210000
END:VEVENT
END:VCALENDAR
