BEGIN:VCALENDAR
PRODID:-//eluceo/ical//2.0/EN
VERSION:2.0
CALSCALE:GREGORIAN
BEGIN:VEVENT
UID:3a2d9007f78745774af85fba37a8d50d
DTSTAMP:20260425T224224Z
SUMMARY:CUJF Annual Dinner
DESCRIPTION:Champaign-Urbana Jewish Federation\nCUJF Calendar \nhttps://cuj
 f.org/cujf-calendar/cujf-annual-dinner-Nov-2018-287151\n\nJoin CUJF for ou
 r annual dinner featuring Rabbi Evan Moffic.\n\nRSVP by Friday\, October 2
 6.\n\n \n\nRabbi Evan Moffic is the Senior Rabbi of Congregation Solel i
 n suburban Chicago. He is the author of the book\, The Happiness Prayer: A
 ncient Jewish Wisdom for the Best Way to Live Today.\n\nRabbi Moffic uses 
 his experience as a rabbi working with people of all ages who experience t
 he highs and lows of life\, combined with the most cutting-edge research i
 n positive psychology and neuroscience\, ...
DTSTART;TZID=America/Chicago:20181104T180000
DTEND;TZID=America/Chicago:20181104T203000
END:VEVENT
END:VCALENDAR
