BEGIN:VCALENDAR
PRODID:-//eluceo/ical//2.0/EN
VERSION:2.0
CALSCALE:GREGORIAN
BEGIN:VEVENT
UID:6c1857197f2855f08d13eb1fbbbe6539
DTSTAMP:20260423T071341Z
SUMMARY:Community Summer Pool Party
DESCRIPTION:Champaign-Urbana Jewish Federation\nCUJF Calendar \nhttps://cuj
 f.org/cujf-calendar/community-summer-pool-party\n\nJoin your friends from 
 Champaign-Urbana Jewish Community for a relaxed afternoon at the pool. Bri
 ng your own picnic if you'd like. Kosher Drinks and desserts will be provi
 ded.\n\nSuggested donation is $5 per person not to exceed $20 per family.
DTSTART;TZID=America/Chicago:20190623T160000
DTEND;TZID=America/Chicago:20190623T180000
END:VEVENT
END:VCALENDAR
