BEGIN:VCALENDAR
PRODID:-//eluceo/ical//2.0/EN
VERSION:2.0
CALSCALE:GREGORIAN
BEGIN:VEVENT
UID:4a2da4aefd9193de168405f6f9ccd819
DTSTAMP:20260422T100224Z
SUMMARY:Community Conversation on the Tradition of Tzedakah
DESCRIPTION:Champaign-Urbana Jewish Federation\nCUJF Calendar \nhttps://cuj
 f.org/cujf-calendar/community-conversation-on-the-tradition-of-tzedakah-28
 7160\n\nTzedakah: Conversations about the Tradition of Tzedakah – chari
 ty and justice \n\nwith Rabbi Steven Sager\n\n \n\nHow do we give?\n\nWh
 at are the benefits or drawbacks of giving anonymously\,  or giving face 
 to face?\n\nHow do we prioritize tzedakah?\n\nDoes tzedakah involve resour
 ces other than money?\n\nWhat does the Bible mean (Proverbs) when it says 
 "Tzedakah saves  from death"?\n\nHow does tzedakah relate to hesed/compas
 sion\, tikkun olam/repair of the world?\n\n \n\nRabbi Sager i...
DTSTART;TZID=America/Chicago:20181011T173000
DTEND;TZID=America/Chicago:20181011T190000
END:VEVENT
END:VCALENDAR
