BEGIN:VCALENDAR
PRODID:-//eluceo/ical//2.0/EN
VERSION:2.0
CALSCALE:GREGORIAN
BEGIN:VEVENT
UID:93463f4f3dd47252ad5eaa04e7da5b52
DTSTAMP:20260424T135402Z
SUMMARY:CHAI Seniors: When Stars Attack
DESCRIPTION:Champaign-Urbana Jewish Federation\nCUJF Calendar \nhttps://cuj
 f.org/cujf-calendar/chai-seniors-when-stars-attack-287459\n\nChai Seniors:
 \nWhen Stars Attack! Radioactive Rain from Near-Earth Supernova Explosions
 \n\n \n\nPresented by Professor Brian Fields\n\n \n\nThe most massive st
 ars are the celebrities of the cosmos: they are very rare\, but live extra
 vagantly and die in a spectacular and violent supernova explosions. While 
 these events are awesome to observe\, they can take a more sinister shade 
 when they occur closer to home\, because an explosion inside a certain "mi
 nimum safe distance" would pose a grave thr...
DTSTART;TZID=America/Chicago:20181009T111500
DTEND;TZID=America/Chicago:20181009T133000
END:VEVENT
END:VCALENDAR
