BEGIN:VCALENDAR
PRODID:-//eluceo/ical//2.0/EN
VERSION:2.0
CALSCALE:GREGORIAN
BEGIN:VEVENT
UID:a9fac3ca3f41014a69bcd1f2486b8ba0
DTSTAMP:20260421T110531Z
SUMMARY:CHAI Seniors: My Family Story - From Ethiopia to Israel
DESCRIPTION:Champaign-Urbana Jewish Federation\nCUJF Calendar \nhttps://cuj
 f.org/cujf-calendar/chai-seniors-my-family-story-from-ethiopia-to-israel-3
 01047\n\n“My family story – from Ethiopia to Israel”\nPresented by W
 aga Brok\, Jewish Agency Israel Fellow at Illini Hillel\n\n\nWe are please
 d to welcome Waga Brok as a guest speaker in our CHAI Seniors Education pr
 ogram. Waga\, our community shlicha (Israel Fellow)\, will speak about her
  experiences within the Ethiopian Jewish community. Born in Ethiopia\, Wag
 a made Aliyah to Israel as a part of Operation Solomon in 1991 and grew up
  in Afula. She completed her BA in Special Education and in Experi...
DTSTART;TZID=America/Chicago:20190212T111500
DTEND;TZID=America/Chicago:20190212T140000
END:VEVENT
END:VCALENDAR
