BEGIN:VCALENDAR
PRODID:-//eluceo/ical//2.0/EN
VERSION:2.0
CALSCALE:GREGORIAN
BEGIN:VEVENT
UID:a77c9353ff30c5cba18b91cbc930f59e
DTSTAMP:20260425T123856Z
SUMMARY:2019 Jewish Film Festival: Shalom Bollywood
DESCRIPTION:Champaign-Urbana Jewish Federation\nCUJF Calendar \nhttps://cuj
 f.org/cujf-calendar/2019-jewish-film-festival-shalom-bollywood-302174\n\nJ
 oin us for the 2019 Jewish Film Festival!\n\nOn March 31\, we will screen
  Shalom Bollywood.\n\nNOTE: The ticket link here is for a festival pass fo
 r all four films ($32). Individual tickets can be purchased from the Art T
 heater for $10 per film. \n\nSHALOM BOLLYWOOD: THE UNTOLD STORY OF INDIAN
  CINEMA is a feature length documentary celebrating the all singing\, all 
 dancing history of the world’s largest film industry. It reveals the unl
 ikely story of the 2000 year old Indian Jewish communi...
DTSTART;TZID=America/Chicago:20190331T190000
DTEND;TZID=America/Chicago:20190331T210000
END:VEVENT
END:VCALENDAR
