BEGIN:VCALENDAR
PRODID:-//eluceo/ical//2.0/EN
VERSION:2.0
CALSCALE:GREGORIAN
BEGIN:VEVENT
UID:8c3bdd7713339ed1cc68008a865f9da8
DTSTAMP:20260421T111758Z
SUMMARY:2019 Jewish Film Festival: Dreaming of a Jewish Christmas
DESCRIPTION:Champaign-Urbana Jewish Federation\nCUJF Calendar \nhttps://cuj
 f.org/cujf-calendar/2019-jewish-film-festival-dreaming-of-a-jewish-christm
 as-302175\n\nJoin us for the 2019 Jewish Film Festival!\n\nOn April 7\, 
 we will screen Dreaming of a Jewish Christmas.\n\nNOTE: The ticket link he
 re is for a festival pass for all four films ($32). Individual tickets can
  be purchased from the Art Theater for $10 per film. \n\n 
DTSTART;TZID=America/Chicago:20190407T160000
DTEND;TZID=America/Chicago:20190407T180000
END:VEVENT
END:VCALENDAR
