BEGIN:VCALENDAR
PRODID:-//eluceo/ical//2.0/EN
VERSION:2.0
CALSCALE:GREGORIAN
BEGIN:VEVENT
UID:b44cc14803ed9cf9a415766d688ebb8e
DTSTAMP:20260422T051406Z
SUMMARY:Zach Mayer in Residence
DESCRIPTION:Champaign-Urbana Jewish Federation\nCommunity Calendar\nhttps:/
 /cujf.org/community-calendar/zach-mayer-in-residence\n\nZach Mayer In Resi
 dence\n\n \n\nDecember 13th-15th. 2024\n\n \n\nFor more information\, vi
 sit cujf.org/zachmayer\n\n 
DTSTART;TZID=America/Chicago:20241213T000000
DTEND;TZID=America/Chicago:20241215T235959
END:VEVENT
END:VCALENDAR
