BEGIN:VCALENDAR
PRODID:-//eluceo/ical//2.0/EN
VERSION:2.0
CALSCALE:GREGORIAN
BEGIN:VEVENT
UID:c65084869a61d10c1e33f5fe03601ee6
DTSTAMP:20260421T093439Z
SUMMARY:Yom HaZikaron
DESCRIPTION:Champaign-Urbana Jewish Federation\nCommunity Calendar\nhttps:/
 /cujf.org/community-calendar/yom-hazikaron2026-489031\n\n
DTSTART;TZID=America/Chicago:20260421T000000
DTEND;TZID=America/Chicago:20260421T235959
END:VEVENT
END:VCALENDAR
