BEGIN:VCALENDAR
PRODID:-//eluceo/ical//2.0/EN
VERSION:2.0
CALSCALE:GREGORIAN
BEGIN:VEVENT
UID:c03cd0002a813da8aba69648e0c2f5cb
DTSTAMP:20260421T093420Z
SUMMARY:Yom HaZikaron- Israel Memorial Day
DESCRIPTION:Champaign-Urbana Jewish Federation\nCommunity Calendar\nhttps:/
 /cujf.org/community-calendar/yom-hazikaron-israel-memorial-day\n\nOn Mond
 ay\, April 20\, at 7 PM\, join with other members of the Jewish community 
 as we observe Yom HaZikaron and recall those whose lives have been lost in
  defense of the State of Israel and those who were killed in acts of terro
 r. The event will take place at the Cohen Center of Illini Hillel\, 503 E
 . John Street.\n\nSinai Temple is co-sponsoring this event with CUJF\, Il
 lini Chabad\, and Illini Hillel.
DTSTART;TZID=America/Chicago:20260420T190000
DTEND;TZID=America/Chicago:20260420T210000
END:VEVENT
END:VCALENDAR
