BEGIN:VCALENDAR
PRODID:-//eluceo/ical//2.0/EN
VERSION:2.0
CALSCALE:GREGORIAN
BEGIN:VEVENT
UID:92cce88563aa9a8a51f1addc0d01373b
DTSTAMP:20260422T013042Z
SUMMARY:Yom Hashoah Service and Through Their Eyes Student Art Exhibit
DESCRIPTION:Champaign-Urbana Jewish Federation\nCommunity Calendar\nhttps:/
 /cujf.org/community-calendar/yom-hashoah-service-and-through-their-eyes-st
 udent-art-exhibit-1677511608-432764\n\nCommemorative Service for Yom Hasho
 ah\, followed by reception and student art exhibit on the Holocaust titled
  Through Their Eyes
DTSTART;TZID=America/Chicago:20230423T120000
DTEND;TZID=America/Chicago:20230423T140000
END:VEVENT
END:VCALENDAR
