BEGIN:VCALENDAR
PRODID:-//eluceo/ical//2.0/EN
VERSION:2.0
CALSCALE:GREGORIAN
BEGIN:VEVENT
UID:d8427b6d1ee2f696a482cbf180b2a2b0
DTSTAMP:20260421T060530Z
SUMMARY:Yom HaShoah observance
DESCRIPTION:Champaign-Urbana Jewish Federation\nCommunity Calendar\nhttps:/
 /cujf.org/community-calendar/yom-hashoah-observance-436631\n\nOn Monday\, 
 May 6\, at 7 PM\, Sinai Temple is honored to welcome activist Terry Swartz
 berg speaking on “Living Visibly and Joyously Jewish After the Shoah"\n\
 nTerry Swartzberg is a journalist and public affairs campaigner from Munic
 h\, Germany. For more than 25 years\, he has been an active member of the 
 Munich Jewish community\, helping to establish its Reform synagogue. Terry
  is active in the Stolpersteine(stumbling-stone) movement\, which places 
 commemorative stones at places where Jews once l...
DTSTART;TZID=America/Chicago:20240506T190000
DTEND;TZID=America/Chicago:20240506T210000
END:VEVENT
END:VCALENDAR
