BEGIN:VCALENDAR
PRODID:-//eluceo/ical//2.0/EN
VERSION:2.0
CALSCALE:GREGORIAN
BEGIN:VEVENT
UID:b05c87506c000cbb6c22ca6ca9a5b165
DTSTAMP:20260422T122459Z
SUMMARY:Yom Hashoah Commemoration
DESCRIPTION:Champaign-Urbana Jewish Federation\nCommunity Calendar\nhttps:/
 /cujf.org/community-calendar/yom-hashoah-commemoration\n\nIn January 2022\
 , we watched in horror as a gunman with antisemitic ideologies entered a s
 ynagogue in Colleyville\, Texas and held Rabbi Charlie Cytron-Walker and h
 is congregants hostage during an eleven hour standoff.  The documentary f
 ilm “Colleyville\,” directed by award-winning filmmaker Dani Menkin\, 
 tells the story of that ordeal.\n\nOn Wednesday evening\, April 23\, as ou
 r community commemoration of Yom HaShoah\, we will host Dani Menkin for a 
 showing of this film and a discussion follow...
DTSTART;TZID=America/Chicago:20250423T190000
DTEND;TZID=America/Chicago:20250423T210000
END:VEVENT
END:VCALENDAR
