BEGIN:VCALENDAR
PRODID:-//eluceo/ical//2.0/EN
VERSION:2.0
CALSCALE:GREGORIAN
BEGIN:VEVENT
UID:7f8a35aaedd73ba1952fb068fb65e100
DTSTAMP:20260423T144016Z
SUMMARY:Yom Ha'atzmaut Shuk Party
DESCRIPTION:Champaign-Urbana Jewish Federation\nCommunity Calendar\nhttps:/
 /cujf.org/community-calendar/yom-haatzmaut-shuk-party\n\nYom HaAtzma'ut- I
 srael Independence Day\n\n\n\n\n\n\n\n\n\n\n\n\n\n\n\n\n\n\n\n\n\n\n\n\n\n
 \n\n\n\n\n\n\n\n\n\n\n\n\n\nOn Wednesday\, April 22\, from 6-8 PM\, all a
 re invited to join in a...
DTSTART;TZID=America/Chicago:20260422T180000
DTEND;TZID=America/Chicago:20260422T200000
END:VEVENT
END:VCALENDAR
